BEGIN:VCALENDAR
VERSION:2.0
PRODID:-//OMOL - ECPv5.1.5//NONSGML v1.0//EN
CALSCALE:GREGORIAN
METHOD:PUBLISH
X-WR-CALNAME:OMOL
X-ORIGINAL-URL:https://demo.omolmentoringinc.org
X-WR-CALDESC:Events for OMOL
BEGIN:VTIMEZONE
TZID:UTC
BEGIN:STANDARD
TZOFFSETFROM:+0000
TZOFFSETTO:+0000
TZNAME:UTC
DTSTART:20200101T000000
END:STANDARD
END:VTIMEZONE
BEGIN:VEVENT
DTSTART;TZID=UTC:20201128T110000
DTEND;TZID=UTC:20201128T170000
DTSTAMP:20260424T013203
CREATED:20201110T051739Z
LAST-MODIFIED:20201110T051739Z
UID:499-1606561200-1606582800@demo.omolmentoringinc.org
SUMMARY:OMOL Mentoring Beach Cleanup Bingo
DESCRIPTION:Hospital- Boatramp \nMENTORING November\nAwerness\,ii\nBEACH CLEANUP llam\,\nHarbor Day 28\,2020 \nHow do you win?\n4)All in 4 aX ‘a\nI WEAR ARRIVE ON TIME@ 11AM MAKE A NEW FRIEND DECORATE BIRDHOUSES HELP\nCLEANUP AT\nCOLLECTED\n1KG\nOF TRASH\nAll Squares\nAhT III AhAFC\nMM II UIU4I THE END OF\nPLANT AN HERB EVENT\nMust Be Verified To Win! \n
URL:https://demo.omolmentoringinc.org/calendar/omol-mentoring-beach-cleanup-bingo/
ATTACH;FMTTYPE=image/jpeg:https://demo.omolmentoringinc.org/wp-content/uploads/2020/11/event.jpg
END:VEVENT
END:VCALENDAR